BEGIN:VCALENDAR
VERSION:2.0
PRODID:-//wp-events-plugin.com//7.2.3.1//EN
BEGIN:VEVENT
UID:274@cmicsinaloasur.org
DTSTART:20250505T150000Z
DTEND:20250505T190000Z
DTSTAMP:20250501T235317Z
URL:https://cmicsinaloasur.org/events/estructuras-de-acero/
SUMMARY:ESTRUCTURAS DE ACERO
DESCRIPTION:
ATTACH;FMTTYPE=image/jpeg:https://cmicsinaloasur.org/wp-content/uploads/20
 25/05/ESTRUCTURAS-DE-ACERO.jpeg
CATEGORIES:Capacitación,En Linea
END:VEVENT
END:VCALENDAR