BEGIN:VCALENDAR
VERSION:2.0
PRODID:-//wp-events-plugin.com//7.2.3.1//EN
BEGIN:VEVENT
UID:24@cmicsinaloasur.org
DTSTART:20230419T150000Z
DTEND:20230419T190000Z
DTSTAMP:20230419T232316Z
URL:https://cmicsinaloasur.org/events/establecimiento-de-kpis/
SUMMARY:Establecimiento de KPI´s
DESCRIPTION:
ATTACH;FMTTYPE=image/jpeg:https://cmicsinaloasur.org/wp-content/uploads/20
 23/04/Establecimiento-de-KPI.jpg
CATEGORIES:Capacitación
END:VEVENT
END:VCALENDAR