BEGIN:VCALENDAR
VERSION:2.0
PRODID:-//wp-events-plugin.com//7.2.3.1//EN
BEGIN:VEVENT
UID:152@cmicsinaloasur.org
DTSTART:20240912T090000Z
DTEND:20240912T103000Z
DTSTAMP:20240910T222529Z
URL:https://cmicsinaloasur.org/events/el-rol-del-residente-de-obra-y-su-im
 portancia-para-el-control-de-proyectos/
SUMMARY:El Rol del Residente de Obra y su importancia para el Control de Pr
 oyectos.
DESCRIPTION:&#x1f4e2\; Te esperamos el próximo jueves 12 de septiembre en 
 nuestro webinar\n\n&nbsp\;
ATTACH;FMTTYPE=image/jpeg:https://cmicsinaloasur.org/wp-content/uploads/20
 24/09/Imagen-de-WhatsApp-2024-09-10-a-las-12.50.33_b2911308.jpg
CATEGORIES:Capacitación,En Linea
LOCATION:\, \, 
X-APPLE-STRUCTURED-LOCATION;VALUE=URI;X-ADDRESS=\, ;X-APPLE-RADIUS=100;X-TI
 TLE=:geo:0,0
END:VEVENT
END:VCALENDAR