BEGIN:VCALENDAR
VERSION:2.0
PRODID:-//wp-events-plugin.com//7.2.3.1//EN
BEGIN:VEVENT
UID:190@cmicsinaloasur.org
DTSTART:20241126T140000Z
DTEND:20241126T180000Z
DTSTAMP:20241023T224515Z
URL:https://cmicsinaloasur.org/events/el-liderazgo-para-el-cambio/
SUMMARY:El Liderazgo para el Cambio
DESCRIPTION:
ATTACH;FMTTYPE=image/jpeg:https://cmicsinaloasur.org/wp-content/uploads/20
 24/10/El-Liderazgo-para-el-Cambio.jpg
CATEGORIES:Capacitación,En Linea
END:VEVENT
END:VCALENDAR