BEGIN:VCALENDAR
VERSION:2.0
PRODID:-//wp-events-plugin.com//7.2.3.1//EN
BEGIN:VEVENT
UID:128@cmicsinaloasur.org
DTSTART:20240910T160000Z
DTEND:20240910T190000Z
DTSTAMP:20240821T194153Z
URL:https://cmicsinaloasur.org/events/eco219-2-y-ec1124/
SUMMARY:ECO219.2 y EC1124
DESCRIPTION:
ATTACH;FMTTYPE=image/jpeg:https://cmicsinaloasur.org/wp-content/uploads/20
 24/08/ECO219.02-y-EC1124.jpg
CATEGORIES:Capacitación,En Linea
END:VEVENT
END:VCALENDAR