BEGIN:VCALENDAR
VERSION:2.0
PRODID:-//wp-events-plugin.com//7.2.3.1//EN
BEGIN:VEVENT
UID:113@cmicsinaloasur.org
DTSTART:20240527T150000Z
DTEND:20240527T190000Z
DTSTAMP:20240522T172439Z
URL:https://cmicsinaloasur.org/events/diseno-estructural/
SUMMARY:DISEÑO ESTRUCTURAL
DESCRIPTION:
ATTACH;FMTTYPE=image/jpeg:https://cmicsinaloasur.org/wp-content/uploads/20
 24/05/DISENO-ESTRUCTURAL.jpg
CATEGORIES:Capacitación
END:VEVENT
END:VCALENDAR