BEGIN:VCALENDAR
VERSION:2.0
PRODID:-//wp-events-plugin.com//7.2.3.1//EN
BEGIN:VEVENT
UID:167@cmicsinaloasur.org
DTSTART:20241111T150000Z
DTEND:20241111T190000Z
DTSTAMP:20241004T170707Z
URL:https://cmicsinaloasur.org/events/diseno-estructural-basico-3/
SUMMARY:Diseño Estructural Básico
DESCRIPTION:
ATTACH;FMTTYPE=image/jpeg:https://cmicsinaloasur.org/wp-content/uploads/20
 24/10/Estructural.jpg
CATEGORIES:Capacitación,En Linea
END:VEVENT
END:VCALENDAR