BEGIN:VCALENDAR
VERSION:2.0
PRODID:-//wp-events-plugin.com//7.2.3.1//EN
BEGIN:VEVENT
UID:131@cmicsinaloasur.org
DTSTART:20240909T080000Z
DTEND:20240909T130000Z
DTSTAMP:20240821T194632Z
URL:https://cmicsinaloasur.org/events/diseno-e-imparticion-de-cursos-de-fo
 rmacion-de-capital-humano/
SUMMARY:DISEÑO E IMPARTICION DE CURSOS DE FORMACION DE CAPITAL HUMANO
DESCRIPTION:
ATTACH;FMTTYPE=image/jpeg:https://cmicsinaloasur.org/wp-content/uploads/20
 24/08/DISENO-E-IMPARTICION-DE-CURSOS-DE-FORMACION-DE-CAPITAL-HUMANO.jpg
CATEGORIES:Capacitación,En Linea
END:VEVENT
END:VCALENDAR