BEGIN:VCALENDAR
VERSION:2.0
PRODID:-//wp-events-plugin.com//7.2.3.1//EN
BEGIN:VEVENT
UID:288@cmicsinaloasur.org
DTSTART:20250623T160000Z
DTEND:20250623T190000Z
DTSTAMP:20250520T190257Z
URL:https://cmicsinaloasur.org/events/diplomado/
SUMMARY:DIPLOMADO
DESCRIPTION:
ATTACH;FMTTYPE=image/jpeg:https://cmicsinaloasur.org/wp-content/uploads/20
 25/05/DIPLOMADO.jpeg
CATEGORIES:Capacitación,En Linea
END:VEVENT
END:VCALENDAR