BEGIN:VCALENDAR
VERSION:2.0
PRODID:-//wp-events-plugin.com//7.2.3.1//EN
BEGIN:VEVENT
UID:312@cmicsinaloasur.org
DTSTART:20250802T090000Z
DTEND:20250802T140000Z
DTSTAMP:20250626T212525Z
URL:https://cmicsinaloasur.org/events/diplomado-ingenieria-de-costos/
SUMMARY:DIPLOMADO INGENIERIA DE COSTOS
DESCRIPTION:
ATTACH;FMTTYPE=image/jpeg:https://cmicsinaloasur.org/wp-content/uploads/20
 25/06/diplomado-ingenieria-costos.jpeg
CATEGORIES:Capacitación,Presencial
END:VEVENT
END:VCALENDAR