BEGIN:VCALENDAR
VERSION:2.0
PRODID:-//wp-events-plugin.com//7.2.3.1//EN
BEGIN:VEVENT
UID:117@cmicsinaloasur.org
DTSTART:20240719T150000Z
DTEND:20240719T190000Z
DTSTAMP:20240716T231935Z
URL:https://cmicsinaloasur.org/events/diplomado-bim-manager-4/
SUMMARY:DIPLOMADO BIM MANAGER
DESCRIPTION:
ATTACH;FMTTYPE=image/jpeg:https://cmicsinaloasur.org/wp-content/uploads/20
 24/07/DIPLOMADO-BIM-MANAGER.jpg
CATEGORIES:Capacitación,En Linea
END:VEVENT
END:VCALENDAR