BEGIN:VCALENDAR
VERSION:2.0
PRODID:-//wp-events-plugin.com//7.2.3.1//EN
BEGIN:VEVENT
UID:311@cmicsinaloasur.org
DTSTART:20250711T150000Z
DTEND:20250711T201500Z
DTSTAMP:20250626T212400Z
URL:https://cmicsinaloasur.org/events/diplomado-2/
SUMMARY:DIPLOMADO
DESCRIPTION:
ATTACH;FMTTYPE=image/jpeg:https://cmicsinaloasur.org/wp-content/uploads/20
 25/06/diplomado.jpeg
CATEGORIES:Capacitación,En Linea
END:VEVENT
END:VCALENDAR