BEGIN:VCALENDAR
VERSION:2.0
PRODID:-//wp-events-plugin.com//7.2.3.1//EN
BEGIN:VEVENT
UID:150@cmicsinaloasur.org
DTSTART:20240911T150000Z
DTEND:20240911T190000Z
DTSTAMP:20240906T202209Z
URL:https://cmicsinaloasur.org/events/derecho-de-la-ingenieria-y-la-constr
 uccion-2/
SUMMARY:Derecho de la Ingeniería y la Construcción
DESCRIPTION:
ATTACH;FMTTYPE=image/jpeg:https://cmicsinaloasur.org/wp-content/uploads/20
 24/09/derecho.jpg
CATEGORIES:Capacitación,En Linea
END:VEVENT
END:VCALENDAR