BEGIN:VCALENDAR
VERSION:2.0
PRODID:-//wp-events-plugin.com//7.2.3.1//EN
BEGIN:VEVENT
UID:319@cmicsinaloasur.org
DTSTART:20250816T080000Z
DTEND:20250816T130000Z
DTSTAMP:20250805T180811Z
URL:https://cmicsinaloasur.org/events/de-compranet-a-compras-mx/
SUMMARY:DE COMPRANET A COMPRAS MX
DESCRIPTION:
ATTACH;FMTTYPE=image/jpeg:https://cmicsinaloasur.org/wp-content/uploads/20
 25/08/de-compras-a-compras-mx.jpeg
CATEGORIES:Capacitación,En Linea
END:VEVENT
END:VCALENDAR