BEGIN:VCALENDAR
VERSION:2.0
PRODID:-//wp-events-plugin.com//7.2.3.1//EN
BEGIN:VEVENT
UID:101@cmicsinaloasur.org
DTSTART:20240711T150000Z
DTEND:20240711T190000Z
DTSTAMP:20240522T170243Z
URL:https://cmicsinaloasur.org/events/contabilidad-e-ingenieria-de-costos/
SUMMARY:CONTABILIDAD E INGENIERÍA DE COSTOS
DESCRIPTION:
ATTACH;FMTTYPE=image/jpeg:https://cmicsinaloasur.org/wp-content/uploads/20
 24/05/CONTABILIDAD-E-INGENIERIA-DE-COSTOS.jpg
CATEGORIES:Capacitación
END:VEVENT
END:VCALENDAR