BEGIN:VCALENDAR
VERSION:2.0
PRODID:-//wp-events-plugin.com//7.2.3.1//EN
BEGIN:VEVENT
UID:163@cmicsinaloasur.org
DTSTART:20241031T150000Z
DTEND:20241031T190000Z
DTSTAMP:20241004T165723Z
URL:https://cmicsinaloasur.org/events/contabilidad-e-ingenieria-de-costos-
 primera-fecha/
SUMMARY:Contabilidad e Ingeniería de Costos (Primera Fecha)
DESCRIPTION:
ATTACH;FMTTYPE=image/jpeg:https://cmicsinaloasur.org/wp-content/uploads/20
 24/10/Imagen-de-WhatsApp-2024-10-03-a-las-16.52.18_eda39540.jpg
CATEGORIES:Capacitación,En Linea
END:VEVENT
END:VCALENDAR