BEGIN:VCALENDAR
VERSION:2.0
PRODID:-//wp-events-plugin.com//7.2.3.1//EN
BEGIN:VEVENT
UID:245@cmicsinaloasur.org
DTSTART:20250324T140000Z
DTEND:20250324T190000Z
DTSTAMP:20250320T233026Z
URL:https://cmicsinaloasur.org/events/contabilidad-e-ingenieria-de-costos-
 3/
SUMMARY:CONTABILIDAD E INGENIERIA DE COSTOS
DESCRIPTION:
ATTACH;FMTTYPE=image/jpeg:https://cmicsinaloasur.org/wp-content/uploads/20
 25/03/CONTABILIDAD-E-INGENIERIA-DE-COSTOS.jpeg
CATEGORIES:Capacitación,En Linea
END:VEVENT
END:VCALENDAR