BEGIN:VCALENDAR
VERSION:2.0
PRODID:-//wp-events-plugin.com//7.2.3.1//EN
BEGIN:VEVENT
UID:136@cmicsinaloasur.org
DTSTART:20240827T170000Z
DTEND:20240827T183000Z
DTSTAMP:20240826T221645Z
URL:https://cmicsinaloasur.org/events/conociendo-la-importancia-de-los-imp
 uestos/
SUMMARY:Conociendo la importancia de los Impuestos
DESCRIPTION:
ATTACH;FMTTYPE=image/jpeg:https://cmicsinaloasur.org/wp-content/uploads/20
 24/08/impuestos.jpg
CATEGORIES:Capacitación,Presencial
LOCATION:CMIC SINALOA SUR\, Blvrd del Marlin #482\, Sábalo Country\, Mazat
 lán \, Sinaloa\, 82199\, México
X-APPLE-STRUCTURED-LOCATION;VALUE=URI;X-ADDRESS=Blvrd del Marlin #482\, Sá
 balo Country\, Mazatlán \, Sinaloa\, 82199\, México;X-APPLE-RADIUS=100;X
 -TITLE=CMIC SINALOA SUR:geo:0,0
END:VEVENT
END:VCALENDAR