BEGIN:VCALENDAR
VERSION:2.0
PRODID:-//wp-events-plugin.com//7.2.3.1//EN
BEGIN:VEVENT
UID:122@cmicsinaloasur.org
DTSTART:20240729T080000Z
DTEND:20240729T120000Z
DTSTAMP:20240716T233025Z
URL:https://cmicsinaloasur.org/events/condiciones-de-seguridad-y-salid-en-
 la-construccion/
SUMMARY:CONDICIONES DE SEGURIDAD Y SALID EN LA CONSTRUCCIÓN
DESCRIPTION:
ATTACH;FMTTYPE=image/jpeg:https://cmicsinaloasur.org/wp-content/uploads/20
 24/07/CONDICIONES-DE-SEGURIDAD-Y-SALID-EN-LA-CONSTRUCCION.jpg
CATEGORIES:Capacitación,En Linea
END:VEVENT
END:VCALENDAR