BEGIN:VCALENDAR
VERSION:2.0
PRODID:-//wp-events-plugin.com//7.2.3.1//EN
BEGIN:VEVENT
UID:227@cmicsinaloasur.org
DTSTART:20250213T160000Z
DTEND:20250213T180000Z
DTSTAMP:20250212T165745Z
URL:https://cmicsinaloasur.org/events/conciencia-luminica/
SUMMARY:Conciencia Lumínica
DESCRIPTION:
ATTACH;FMTTYPE=image/jpeg:https://cmicsinaloasur.org/wp-content/uploads/20
 25/02/Imagen-de-WhatsApp-2025-02-11-a-las-19.02.59_958f9cc2.jpg
CATEGORIES:Presencial
LOCATION:CMIC SINALOA SUR\, Blvrd del Marlin #482\, Sábalo Country\, Mazat
 lán \, Sinaloa\, 82199\, México
X-APPLE-STRUCTURED-LOCATION;VALUE=URI;X-ADDRESS=Blvrd del Marlin #482\, Sá
 balo Country\, Mazatlán \, Sinaloa\, 82199\, México;X-APPLE-RADIUS=100;X
 -TITLE=CMIC SINALOA SUR:geo:0,0
END:VEVENT
END:VCALENDAR