BEGIN:VCALENDAR
VERSION:2.0
PRODID:-//wp-events-plugin.com//7.2.3.1//EN
BEGIN:VEVENT
UID:270@cmicsinaloasur.org
DTSTART:20250426T080000Z
DTEND:20250426T130000Z
DTSTAMP:20250403T235602Z
URL:https://cmicsinaloasur.org/events/compranet/
SUMMARY:COMPRANET
DESCRIPTION:
ATTACH;FMTTYPE=image/jpeg:https://cmicsinaloasur.org/wp-content/uploads/20
 25/04/COMPRANET.jpeg
CATEGORIES:Capacitación,En Linea
END:VEVENT
END:VCALENDAR