BEGIN:VCALENDAR
VERSION:2.0
PRODID:-//wp-events-plugin.com//7.2.3.1//EN
BEGIN:VEVENT
UID:115@cmicsinaloasur.org
DTSTART:20240810T080000Z
DTEND:20240810T130000Z
DTSTAMP:20240716T231448Z
URL:https://cmicsinaloasur.org/events/compranet-para-principiantes/
SUMMARY:Compranet para principiantes
DESCRIPTION:
ATTACH;FMTTYPE=image/jpeg:https://cmicsinaloasur.org/wp-content/uploads/20
 24/07/COMPRANET.jpg
CATEGORIES:Capacitación,En Linea
END:VEVENT
END:VCALENDAR