BEGIN:VCALENDAR
VERSION:2.0
PRODID:-//wp-events-plugin.com//7.2.3.1//EN
BEGIN:VEVENT
UID:134@cmicsinaloasur.org
DTSTART:20240831T080000Z
DTEND:20240831T130000Z
DTSTAMP:20240821T195123Z
URL:https://cmicsinaloasur.org/events/compranet-para-licitantes/
SUMMARY:COMPRANET PARA LICITANTES
DESCRIPTION:
ATTACH;FMTTYPE=image/jpeg:https://cmicsinaloasur.org/wp-content/uploads/20
 24/08/COMPRANET-PARA-LICITANTES.jpg
CATEGORIES:Capacitación,En Linea
END:VEVENT
END:VCALENDAR