BEGIN:VCALENDAR
VERSION:2.0
PRODID:-//wp-events-plugin.com//7.2.3.1//EN
BEGIN:VEVENT
UID:285@cmicsinaloasur.org
DTSTART:20250614T080000Z
DTEND:20250614T150000Z
DTSTAMP:20250520T185933Z
URL:https://cmicsinaloasur.org/events/compranet-2/
SUMMARY:COMPRANET
DESCRIPTION:
ATTACH;FMTTYPE=image/jpeg:https://cmicsinaloasur.org/wp-content/uploads/20
 25/05/COMPRANET.jpeg
CATEGORIES:Capacitación,En Linea
END:VEVENT
END:VCALENDAR