BEGIN:VCALENDAR
VERSION:2.0
PRODID:-//wp-events-plugin.com//7.2.3.1//EN
BEGIN:VEVENT
UID:121@cmicsinaloasur.org
DTSTART:20240725T080000Z
DTEND:20240725T120000Z
DTSTAMP:20240716T232911Z
URL:https://cmicsinaloasur.org/events/comisiones-de-seguridad-e-higiene/
SUMMARY:COMISIONES DE SEGURIDAD E HIGIENE
DESCRIPTION:
ATTACH;FMTTYPE=image/jpeg:https://cmicsinaloasur.org/wp-content/uploads/20
 24/07/COMISIONES-DE-SEGURIDAD-E-HIGIENE.jpg
CATEGORIES:Capacitación,En Linea
END:VEVENT
END:VCALENDAR