BEGIN:VCALENDAR
VERSION:2.0
PRODID:-//wp-events-plugin.com//7.2.3.1//EN
BEGIN:VEVENT
UID:271@cmicsinaloasur.org
DTSTART:20250421T080000Z
DTEND:20250421T170000Z
DTSTAMP:20250403T235834Z
URL:https://cmicsinaloasur.org/events/certificacion-en-operacion-del-monta
 cargas-horizontal/
SUMMARY:CERTIFICACION EN OPERACION DEL MONTACARGAS HORIZONTAL
DESCRIPTION:
ATTACH;FMTTYPE=image/jpeg:https://cmicsinaloasur.org/wp-content/uploads/20
 25/04/CERTIFICACION-EN-OPERACION-DEL-MONTACARGAS-HORIZONTAL.jpeg
CATEGORIES:Capacitación,En Linea
END:VEVENT
END:VCALENDAR