BEGIN:VCALENDAR
VERSION:2.0
PRODID:-//wp-events-plugin.com//7.2.3.1//EN
BEGIN:VEVENT
UID:107@cmicsinaloasur.org
DTSTART:20240521T170000Z
DTEND:20240521T170000Z
DTSTAMP:20240522T171657Z
URL:https://cmicsinaloasur.org/events/bim-manager/
SUMMARY:BIM MANAGER
DESCRIPTION:
ATTACH;FMTTYPE=image/jpeg:https://cmicsinaloasur.org/wp-content/uploads/20
 24/05/BIM-MANAGER.jpg
CATEGORIES:Capacitación
END:VEVENT
END:VCALENDAR