BEGIN:VCALENDAR
VERSION:2.0
PRODID:-//wp-events-plugin.com//7.2.3.1//EN
BEGIN:VEVENT
UID:289@cmicsinaloasur.org
DTSTART:20250520T170000Z
DTEND:20250520T180000Z
DTSTAMP:20250520T190407Z
URL:https://cmicsinaloasur.org/events/bim-manager-2/
SUMMARY:BIM MANAGER
DESCRIPTION:
ATTACH;FMTTYPE=image/jpeg:https://cmicsinaloasur.org/wp-content/uploads/20
 25/05/BIM-MANAGER.jpeg
CATEGORIES:Capacitación,En Linea
END:VEVENT
END:VCALENDAR