BEGIN:VCALENDAR
VERSION:2.0
PRODID:-//wp-events-plugin.com//7.2.3.1//EN
BEGIN:VEVENT
UID:185@cmicsinaloasur.org
DTSTART:20241029T150000Z
DTEND:20241029T190000Z
DTSTAMP:20241023T223718Z
URL:https://cmicsinaloasur.org/events/besop-3/
SUMMARY:BESOP
DESCRIPTION:
ATTACH;FMTTYPE=image/jpeg:https://cmicsinaloasur.org/wp-content/uploads/20
 24/10/BESOP.jpg
CATEGORIES:Capacitación,En Linea
END:VEVENT
END:VCALENDAR