BEGIN:VCALENDAR
VERSION:2.0
PRODID:-//wp-events-plugin.com//7.2.3.1//EN
BEGIN:VEVENT
UID:120@cmicsinaloasur.org
DTSTART:20240731T150000Z
DTEND:20240731T180000Z
DTSTAMP:20240716T232748Z
URL:https://cmicsinaloasur.org/events/besop-2/
SUMMARY:BESOP
DESCRIPTION:
ATTACH;FMTTYPE=image/jpeg:https://cmicsinaloasur.org/wp-content/uploads/20
 24/07/BESOP.jpg
CATEGORIES:Capacitación,En Linea
END:VEVENT
END:VCALENDAR