BEGIN:VCALENDAR
VERSION:2.0
PRODID:-//wp-events-plugin.com//7.2.3.1//EN
BEGIN:VEVENT
UID:296@cmicsinaloasur.org
DTSTART:20250714T080000Z
DTEND:20250714T130000Z
DTSTAMP:20250612T232736Z
URL:https://cmicsinaloasur.org/events/autocad-intermedio-3/
SUMMARY:AUTOCAD INTERMEDIO
DESCRIPTION:
ATTACH;FMTTYPE=image/jpeg:https://cmicsinaloasur.org/wp-content/uploads/20
 25/06/AUTOCAD-INTERMEDIO.jpeg
CATEGORIES:Capacitación,En Linea
END:VEVENT
END:VCALENDAR