BEGIN:VCALENDAR
VERSION:2.0
PRODID:-//wp-events-plugin.com//7.2.3.1//EN
BEGIN:VEVENT
UID:106@cmicsinaloasur.org
DTSTART:20240614T150000Z
DTEND:20240614T160000Z
DTSTAMP:20240522T171310Z
URL:https://cmicsinaloasur.org/events/auditor-interno-de-acuerdo-a-la-norm
 a-iso-190112018/
SUMMARY:AUDITOR INTERNO DE ACUERDO A LA NORMA ISO 19011:2018
DESCRIPTION:
ATTACH;FMTTYPE=image/jpeg:https://cmicsinaloasur.org/wp-content/uploads/20
 24/05/AUDITOR-INTERNO-DE-ACUERDO-A-LA-NORMA-ISO-19011-2018.jpg
CATEGORIES:Capacitación
END:VEVENT
END:VCALENDAR