BEGIN:VCALENDAR
VERSION:2.0
PRODID:-//wp-events-plugin.com//7.2.3.1//EN
BEGIN:VEVENT
UID:193@cmicsinaloasur.org
DTSTART:20250106T080000Z
DTEND:20250106T120000Z
DTSTAMP:20241218T172611Z
URL:https://cmicsinaloasur.org/events/analisis-e-integracion-de-precios-un
 itarios-9/
SUMMARY:Análisis e Integración de precios Unitarios
DESCRIPTION:
ATTACH;FMTTYPE=image/jpeg:https://cmicsinaloasur.org/wp-content/uploads/20
 24/12/analisis.jpg
CATEGORIES:Capacitación,En Linea
END:VEVENT
END:VCALENDAR