BEGIN:VCALENDAR
VERSION:2.0
PRODID:-//wp-events-plugin.com//7.2.3.1//EN
BEGIN:VEVENT
UID:187@cmicsinaloasur.org
DTSTART:20241119T150000Z
DTEND:20241119T190000Z
DTSTAMP:20241023T224024Z
URL:https://cmicsinaloasur.org/events/analisis-e-integracion-de-precios-un
 itarios-8/
SUMMARY:Análisis e Integración de Precios Unitarios
DESCRIPTION:
ATTACH;FMTTYPE=image/jpeg:https://cmicsinaloasur.org/wp-content/uploads/20
 24/10/Analisis-e-Integracion-de-Precios-Unitarios.jpg
CATEGORIES:Capacitación,En Linea
END:VEVENT
END:VCALENDAR