BEGIN:VCALENDAR
VERSION:2.0
PRODID:-//wp-events-plugin.com//7.2.3.1//EN
BEGIN:VEVENT
UID:181@cmicsinaloasur.org
DTSTART:20241104T080000Z
DTEND:20241104T130000Z
DTSTAMP:20241023T222832Z
URL:https://cmicsinaloasur.org/events/analisis-e-integracion-de-precios-un
 itarios-7/
SUMMARY:Análisis e Integración de Precios Unitarios
DESCRIPTION:
ATTACH;FMTTYPE=image/jpeg:https://cmicsinaloasur.org/wp-content/uploads/20
 24/10/Analisis-e-Integracion.jpg
CATEGORIES:Capacitación,En Linea
END:VEVENT
END:VCALENDAR