BEGIN:VCALENDAR
VERSION:2.0
PRODID:-//wp-events-plugin.com//7.2.3.1//EN
BEGIN:VEVENT
UID:160@cmicsinaloasur.org
DTSTART:20240923T080000Z
DTEND:20240923T120000Z
DTSTAMP:20240911T233514Z
URL:https://cmicsinaloasur.org/events/analisis-e-integracion-de-precios-un
 itarios-6/
SUMMARY:Analisis e Integración de Precios Unitarios
DESCRIPTION:
ATTACH;FMTTYPE=image/jpeg:https://cmicsinaloasur.org/wp-content/uploads/20
 24/09/Analisis-e-Integracion-de-Precios-Unitarios.jpg
CATEGORIES:Capacitación,En Linea
END:VEVENT
END:VCALENDAR