BEGIN:VCALENDAR
VERSION:2.0
PRODID:-//wp-events-plugin.com//7.2.3.1//EN
BEGIN:VEVENT
UID:140@cmicsinaloasur.org
DTSTART:20240830T170000Z
DTEND:20240830T190000Z
DTSTAMP:20240828T172603Z
URL:https://cmicsinaloasur.org/events/analisis-e-integracion-de-precios-un
 itarios-5/
SUMMARY:Análisis e Integración de Precios Unitarios
DESCRIPTION:
ATTACH;FMTTYPE=image/jpeg:https://cmicsinaloasur.org/wp-content/uploads/20
 24/08/Analisis-e-Integracion-de-Precios-Unitarios.jpg
CATEGORIES:Capacitación,En Linea
END:VEVENT
END:VCALENDAR