BEGIN:VCALENDAR
VERSION:2.0
PRODID:-//wp-events-plugin.com//7.2.3.1//EN
BEGIN:VEVENT
UID:130@cmicsinaloasur.org
DTSTART:20241028T140000Z
DTEND:20241028T190000Z
DTSTAMP:20240821T194454Z
URL:https://cmicsinaloasur.org/events/alineacion-en-supervision-de-obra/
SUMMARY:ALINEACION EN SUPERVISION DE OBRA
DESCRIPTION:
ATTACH;FMTTYPE=image/jpeg:https://cmicsinaloasur.org/wp-content/uploads/20
 24/08/ALINEACION-EN-SUPERVISION-DE-OBRA.jpg
CATEGORIES:Capacitación,En Linea
END:VEVENT
END:VCALENDAR