BEGIN:VCALENDAR
VERSION:2.0
PRODID:-//wp-events-plugin.com//7.2.3.1//EN
BEGIN:VEVENT
UID:129@cmicsinaloasur.org
DTSTART:20240902T160000Z
DTEND:20240902T190000Z
DTSTAMP:20240821T194319Z
URL:https://cmicsinaloasur.org/events/alineacion-en-superintentende-de-obr
 a/
SUMMARY:ALINEACION EN SUPERINTENTENDE DE OBRA
DESCRIPTION:
ATTACH;FMTTYPE=image/jpeg:https://cmicsinaloasur.org/wp-content/uploads/20
 24/08/ALINEACION-EN-SUPERINTENTENDE-DE-OBRA.jpg
CATEGORIES:Capacitación,En Linea
END:VEVENT
END:VCALENDAR