BEGIN:VCALENDAR
VERSION:2.0
PRODID:-//wp-events-plugin.com//7.2.3.1//EN
BEGIN:VEVENT
UID:127@cmicsinaloasur.org
DTSTART:20240902T160000Z
DTEND:20240902T190000Z
DTSTAMP:20240821T193933Z
URL:https://cmicsinaloasur.org/events/alineacion-en-residente-de-obra/
SUMMARY:ALINEACION EN RESIDENTE DE OBRA
DESCRIPTION:
ATTACH;FMTTYPE=image/jpeg:https://cmicsinaloasur.org/wp-content/uploads/20
 24/08/ALINEACION-EN-RESIDENTE-DE-OBRA.jpg
CATEGORIES:Capacitación
END:VEVENT
END:VCALENDAR