BEGIN:VCALENDAR
VERSION:2.0
PRODID:-//wp-events-plugin.com//7.2.3.1//EN
BEGIN:VEVENT
UID:156@cmicsinaloasur.org
DTSTART:20240923T080000Z
DTEND:20240923T120000Z
DTSTAMP:20240911T233049Z
URL:https://cmicsinaloasur.org/events/administracion-de-bases-de-datos-con
 -tablas-dinamicas-en-excel/
SUMMARY:Administración de Bases de Datos con Tablas Dinámicas en Excel
DESCRIPTION:
ATTACH;FMTTYPE=image/jpeg:https://cmicsinaloasur.org/wp-content/uploads/20
 24/09/Administracion-de-Bases-de-Datos-con-Tablas-Dinamicas-en-Excel.jpg
CATEGORIES:Capacitación,En Linea
END:VEVENT
END:VCALENDAR